BEGIN:VCALENDAR
VERSION:2.0
PRODID:-//krishakops.de - ECPv5.9.1//NONSGML v1.0//EN
CALSCALE:GREGORIAN
METHOD:PUBLISH
X-WR-CALNAME:krishakops.de
X-ORIGINAL-URL:https://krishakops.de
X-WR-CALDESC:Events for krishakops.de
BEGIN:VTIMEZONE
TZID:Europe/Paris
BEGIN:DAYLIGHT
TZOFFSETFROM:+0100
TZOFFSETTO:+0200
TZNAME:CEST
DTSTART:20220327T010000
END:DAYLIGHT
BEGIN:STANDARD
TZOFFSETFROM:+0200
TZOFFSETTO:+0100
TZNAME:CET
DTSTART:20221030T010000
END:STANDARD
END:VTIMEZONE
BEGIN:VEVENT
DTSTART;TZID=Europe/Paris:20220424T170000
DTEND;TZID=Europe/Paris:20220424T183000
DTSTAMP:20260421T132257
CREATED:20220211T172025Z
LAST-MODIFIED:20220211T172949Z
UID:2107-1650819600-1650825000@krishakops.de
SUMMARY:Lesung bei HAMBURG ZU GAST
DESCRIPTION:In seinem Debütroman “Das ewige Rauschen” verwebt Krisha Kops eine deutsch-indische Familiengeschichte über drei Generationen kunstvoll mit indischer Mythologie. Inspiriert von der Geschichte seiner eigenen Familie thematisiert er dabei Zugehörigkeit\, den Verlust von Heimat\, kulturelle Identität\, familiäre Strukturen und den ewigen Versuch\, einen Platz im Leben zu finden. \nDort\, wo sich die eurasische und die indische Kontinentalplatte treffen\, steht fest in der Erde ein Banyanbaum. Durch seine Blätter und Luftwurzeln streichen die Winde. Sie erzählen ihm die Geschichte von Abbayi und seiner deutsch-indischen Familie. Sie erzählen von einem Mädchen\, das an der Ostsee geboren wird und während der Nachkriegszeit mit seiner Familie quer durch Deutschland zieht. Von einem indischen Bauern\, der für seine Tomatenpflanzen singt – und für seine beiden Frauen. Von einem Glückssucher\, dem die Welt zu klein für seine Ideen ist und der sein Heimatland verlässt. Von einer Frau\, die sich in den Fremden verliebt\, und schließlich von einem jungen Mann\, der sich zeit seines Lebens zwischen den Welten bewegen wird.
URL:https://krishakops.de/workshops-and-presentations/lesung-bei-hamburg-zu-gast/
LOCATION:Kulturstiftung Schloss Agathenburg\, Hauptstraße\, Agathenburg\, 21684\, Germany
ATTACH;FMTTYPE=image/jpeg:https://krishakops.de/wp-content/uploads/2021/10/Das-ewige-Rauschen-9783716028087-300x500-1.jpg
ORGANIZER;CN="Literaturzentrum%20Hambrug":MAILTO:lit@lit-hamburg.de
END:VEVENT
END:VCALENDAR