BEGIN:VCALENDAR
VERSION:2.0
PRODID:-//krishakops.de - ECPv5.9.1//NONSGML v1.0//EN
CALSCALE:GREGORIAN
METHOD:PUBLISH
X-WR-CALNAME:krishakops.de
X-ORIGINAL-URL:https://krishakops.de
X-WR-CALDESC:Events for krishakops.de
BEGIN:VTIMEZONE
TZID:Europe/Paris
BEGIN:DAYLIGHT
TZOFFSETFROM:+0100
TZOFFSETTO:+0200
TZNAME:CEST
DTSTART:20230326T010000
END:DAYLIGHT
BEGIN:STANDARD
TZOFFSETFROM:+0200
TZOFFSETTO:+0100
TZNAME:CET
DTSTART:20231029T010000
END:STANDARD
END:VTIMEZONE
BEGIN:VEVENT
DTSTART;TZID=Europe/Paris:20230508T183000
DTEND;TZID=Europe/Paris:20230508T200000
DTSTAMP:20260421T110323
CREATED:20230330T102702Z
LAST-MODIFIED:20230330T102702Z
UID:2471-1683570600-1683576000@krishakops.de
SUMMARY:empowern // mutige Geschichten
DESCRIPTION:Ins Gespräch kommen\, Lesen\, Reden\, Feiern. So einfach ist die Idee der ursprünglich aus Amsterdam kommenden Leseclubs. Wir übernehmen das kultige Veranstaltungsformat aus den Niederlanden und laden gemeinsam alle Interessierten schon jetzt herzlich dazu ein\, ein besonderes Literaturevent in Berlin zu erleben. Das Prinzip gilt hier wie dort: alleine lesen\, später gemeinsam mit der Autorin oder dem Autor diskutieren und im Anschluss alle zusammen die Literatur feiern.\nSie sind neugierig und möchten mitmachen? Dann unten ein Buch aussuchen und bis zum 5. April 2023 für den entsprechenden Club verbindlich anmelden (die Plätze sind limitiert auf je 15 Teilnehmende\, es gilt die Reihenfolge der Anmeldungen). Alle Leseclubs finden parallel am 8. Mai 2023 um 18:30 Uhr an den drei genannten Orten in Berlin Mitte statt.\nAnschließend treffen sich alle Lesenden um 20:15 Uhr in der Landesvertretung Niedersachsen zum Austausch und zur Leseclub-Party bei Musik\, Imbiss und Getränken aus allen drei Gastgeber:innen-Ländern.
URL:https://krishakops.de/workshops-and-presentations/empowern-mutige-geschichten/
LOCATION:Landesvertretung Niedersachsen\, In den Ministergärten 10\, Berlin\, Berlin\, 10117\, Germany
ATTACH;FMTTYPE=image/jpeg:https://krishakops.de/wp-content/uploads/2021/10/Das-ewige-Rauschen-9783716028087-300x500-1.jpg
ORGANIZER;CN="Stiftung%20Niedersachsen":MAILTO:info@stnds.de
END:VEVENT
END:VCALENDAR