BEGIN:VCALENDAR
VERSION:2.0
PRODID:-//krishakops.de - ECPv5.9.1//NONSGML v1.0//EN
CALSCALE:GREGORIAN
METHOD:PUBLISH
X-WR-CALNAME:krishakops.de
X-ORIGINAL-URL:https://krishakops.de
X-WR-CALDESC:Events for krishakops.de
BEGIN:VTIMEZONE
TZID:Europe/Paris
BEGIN:DAYLIGHT
TZOFFSETFROM:+0100
TZOFFSETTO:+0200
TZNAME:CEST
DTSTART:20230326T010000
END:DAYLIGHT
BEGIN:STANDARD
TZOFFSETFROM:+0200
TZOFFSETTO:+0100
TZNAME:CET
DTSTART:20231029T010000
END:STANDARD
END:VTIMEZONE
BEGIN:VEVENT
DTSTART;TZID=Europe/Paris:20230613T080000
DTEND;TZID=Europe/Paris:20230613T213000
DTSTAMP:20260421T115002
CREATED:20230406T140358Z
LAST-MODIFIED:20230406T140358Z
UID:2491-1686643200-1686691800@krishakops.de
SUMMARY:AUFBRÜCHE – JUNGE LITERATUR 2023
DESCRIPTION:Drei Abende\, kuratiert zusammen mit Paula Gottschalk\, Studentin im Masterstudiengang Medien und Digitale Kulturen an der Leuphana Universität Lüneburg\, laden ein\, sich mit der Gegenwartsliteratur zu beschäftigen: zu Gast ist u.a. Benno Gammerl mit seinem Buch „Queer. Eine deutsche Geschichte vom Kaiserreich bis heute“. Theresa Pleitner und Krisha Kops stellen ihre spannenden Debütromane „Über den Fluss“ und „Das ewige Rauschen“ vor\, die Kulturjournalistin Alexandra Friedrich moderiert. Am dritten Abend steht der Verlag Voland & Quist im Mittelpunkt\, Christian Meyer liest aus „Flecken“ und Olivia Kuderewski aus „Haha Heartbreak“\, Programmleiterin Anna Jung stellt den Verlag und die Autoren vor.
URL:https://krishakops.de/workshops-and-presentations/aufbruche-junge-literatur-2023/
ATTACH;FMTTYPE=image/jpeg:https://krishakops.de/wp-content/uploads/2021/10/Das-ewige-Rauschen-9783716028087-300x500-1.jpg
ORGANIZER;CN="Literaturb%C3%BCro%20L%C3%BCneburg":MAILTO:literaturbuero@stadt.lueneburg.de
END:VEVENT
END:VCALENDAR